BEGIN:VCALENDAR
VERSION:2.0
PRODID:-//Comisión Fulbright - ECPv5.15.0.1//NONSGML v1.0//EN
CALSCALE:GREGORIAN
METHOD:PUBLISH
X-WR-CALNAME:Comisión Fulbright
X-ORIGINAL-URL:https://fulbright.es
X-WR-CALDESC:Eventos para Comisión Fulbright
BEGIN:VTIMEZONE
TZID:Europe/Madrid
BEGIN:DAYLIGHT
TZOFFSETFROM:+0100
TZOFFSETTO:+0200
TZNAME:CEST
DTSTART:20220327T010000
END:DAYLIGHT
BEGIN:STANDARD
TZOFFSETFROM:+0200
TZOFFSETTO:+0100
TZNAME:CET
DTSTART:20221030T010000
END:STANDARD
END:VTIMEZONE
BEGIN:VEVENT
DTSTART;TZID=Europe/Madrid:20220425T170000
DTEND;TZID=Europe/Madrid:20220425T180000
DTSTAMP:20260423T102531
CREATED:20220401T180734Z
LAST-MODIFIED:20240809T094927Z
UID:6203-1650906000-1650909600@fulbright.es
SUMMARY:Webinar with Grinnell College- The Liberal Arts System and Undergraduate Financial Aid
DESCRIPTION:What do you know about the US Liberal Arts curriculum? And about financial aid opportunities for your undergraduate degree? Join us to learn more about these topics with representatives from Grinnell College. We will discuss the meaning of a liberal arts education and the benefits of attending a liberal arts institution. In this context\, we will also delve into the different types of financial aid available for international students to do an undergraduate degree in the US.
URL:https://fulbright.es/evento/webinar-with-grinnell-college-the-liberal-arts-system-and-undergraduate-financial-aid/
CATEGORIES:Asesoría Académica,Grado,Sesiones Informativas
END:VEVENT
END:VCALENDAR