BEGIN:VCALENDAR
VERSION:2.0
PRODID:-//Comisión Fulbright - ECPv5.15.0.1//NONSGML v1.0//EN
CALSCALE:GREGORIAN
METHOD:PUBLISH
X-WR-CALNAME:Comisión Fulbright
X-ORIGINAL-URL:https://fulbright.es
X-WR-CALDESC:Eventos para Comisión Fulbright
BEGIN:VTIMEZONE
TZID:Europe/Madrid
BEGIN:DAYLIGHT
TZOFFSETFROM:+0100
TZOFFSETTO:+0200
TZNAME:CEST
DTSTART:20210328T010000
END:DAYLIGHT
BEGIN:STANDARD
TZOFFSETFROM:+0200
TZOFFSETTO:+0100
TZNAME:CET
DTSTART:20211031T010000
END:STANDARD
END:VTIMEZONE
BEGIN:VEVENT
DTSTART;TZID=Europe/Madrid:20210520T180000
DTEND;TZID=Europe/Madrid:20210520T190000
DTSTAMP:20260421T032351
CREATED:20210413T131034Z
LAST-MODIFIED:20240809T094940Z
UID:5412-1621533600-1621537200@fulbright.es
SUMMARY:Virtual Summer Programs in the U.S.
DESCRIPTION:Wondering how to make the most of your summer without being able to travel as far? Join EducationUSA Spain and representatives from St. Cloud State University\, Jacksonville State University\, and Minerva Schools at KGI to learn about virtual summer programs at U.S. Universities. \n\n\n\nTopics covered will include: program types & characteristics\, how to search for programs\, costs & financial aid\, and considerations when choosing a program. \n\n\n\n*This webinar will be in English
URL:https://fulbright.es/evento/virtual-summer-programs-in-the-u-s/
CATEGORIES:Asesoría Académica,Grado,Sesiones Informativas
END:VEVENT
END:VCALENDAR