BEGIN:VCALENDAR
VERSION:2.0
PRODID:-//Comisión Fulbright - ECPv5.15.0.1//NONSGML v1.0//EN
CALSCALE:GREGORIAN
METHOD:PUBLISH
X-WR-CALNAME:Comisión Fulbright
X-ORIGINAL-URL:https://fulbright.es
X-WR-CALDESC:Eventos para Comisión Fulbright
BEGIN:VTIMEZONE
TZID:Europe/Madrid
BEGIN:DAYLIGHT
TZOFFSETFROM:+0100
TZOFFSETTO:+0200
TZNAME:CEST
DTSTART:20220327T010000
END:DAYLIGHT
BEGIN:STANDARD
TZOFFSETFROM:+0200
TZOFFSETTO:+0100
TZNAME:CET
DTSTART:20221030T010000
END:STANDARD
END:VTIMEZONE
BEGIN:VEVENT
DTSTART;TZID=Europe/Madrid:20221130T170000
DTEND;TZID=Europe/Madrid:20221130T180000
DTSTAMP:20260424T190640
CREATED:20221005T114922Z
LAST-MODIFIED:20240809T094902Z
UID:6631-1669827600-1669831200@fulbright.es
SUMMARY:Sesión informativa sobre becas Fulbright para estudios de postgrado
DESCRIPTION:Explicaremos las convocatorias de ampliación de estudios\, realización de máster- Ministerio de Universidades y ampliación de estudios artísticos- Ministerio de Cultura\, que abrirán en  2023\, así tienes tiempo de preparar bien tu solicitud
URL:https://fulbright.es/evento/sesion-informativa-sobre-becas-fulbright-para-estudios-de-postgrado-3/
CATEGORIES:Becas Fulbright,Comisión Fulbright,Sesiones Informativas
END:VEVENT
END:VCALENDAR