BEGIN:VCALENDAR
VERSION:2.0
PRODID:-//Comisión Fulbright - ECPv5.15.0.1//NONSGML v1.0//EN
CALSCALE:GREGORIAN
METHOD:PUBLISH
X-WR-CALNAME:Comisión Fulbright
X-ORIGINAL-URL:https://fulbright.es
X-WR-CALDESC:Eventos para Comisión Fulbright
BEGIN:VTIMEZONE
TZID:Europe/Madrid
BEGIN:DAYLIGHT
TZOFFSETFROM:+0100
TZOFFSETTO:+0200
TZNAME:CEST
DTSTART:20220327T010000
END:DAYLIGHT
BEGIN:STANDARD
TZOFFSETFROM:+0200
TZOFFSETTO:+0100
TZNAME:CET
DTSTART:20221030T010000
END:STANDARD
END:VTIMEZONE
BEGIN:VEVENT
DTSTART;TZID=Europe/Madrid:20221103T170000
DTEND;TZID=Europe/Madrid:20221103T180000
DTSTAMP:20260425T061745
CREATED:20221005T114715Z
LAST-MODIFIED:20240809T094903Z
UID:6629-1667494800-1667498400@fulbright.es
SUMMARY:Sesión informativa sobre becas Fulbright para estudios de postgrado
DESCRIPTION:Explicaremos las convocatorias de ampliación de estudios\, realización de máster- Ministerio de Universidades y ampliación de estudios artísticos- Ministerio de Cultura\, que abrirán en  2023\, así tienes tiempo de preparar bien tu solicitud
URL:https://fulbright.es/evento/sesion-informativa-sobre-becas-fulbright-para-estudios-de-postgrado-2/
CATEGORIES:Becas Fulbright,Comisión Fulbright,Sesiones Informativas
END:VEVENT
END:VCALENDAR