BEGIN:VCALENDAR
VERSION:2.0
PRODID:-//Comisión Fulbright - ECPv5.15.0.1//NONSGML v1.0//EN
CALSCALE:GREGORIAN
METHOD:PUBLISH
X-WR-CALNAME:Comisión Fulbright
X-ORIGINAL-URL:https://fulbright.es
X-WR-CALDESC:Eventos para Comisión Fulbright
BEGIN:VTIMEZONE
TZID:Europe/Madrid
BEGIN:DAYLIGHT
TZOFFSETFROM:+0100
TZOFFSETTO:+0200
TZNAME:CEST
DTSTART:20230326T010000
END:DAYLIGHT
BEGIN:STANDARD
TZOFFSETFROM:+0200
TZOFFSETTO:+0100
TZNAME:CET
DTSTART:20231029T010000
END:STANDARD
END:VTIMEZONE
BEGIN:VEVENT
DTSTART;TZID=Europe/Madrid:20230307T170000
DTEND;TZID=Europe/Madrid:20230307T180000
DTSTAMP:20260419T210847
CREATED:20230117T172800Z
LAST-MODIFIED:20240809T094858Z
UID:6886-1678208400-1678212000@fulbright.es
SUMMARY:Sesión Informativa sobre beca Fulbright para cursar un MBA en el College of William & Mary’s Mason School of Business (W&M)
DESCRIPTION:.  Explicaremos la convocatoria y podrás preguntar tus dudas. Estarán en la reunión representantes de William and Mary
URL:https://fulbright.es/evento/sesion-informativa-sobre-beca-fulbright-para-cursar-un-mba-en-el-college-of-william-marys-mason-school-of-business-wm/
CATEGORIES:Becas Fulbright,Comisión Fulbright,Sesiones Informativas
END:VEVENT
END:VCALENDAR