BEGIN:VCALENDAR
VERSION:2.0
PRODID:-//Comisión Fulbright - ECPv5.15.0.1//NONSGML v1.0//EN
CALSCALE:GREGORIAN
METHOD:PUBLISH
X-WR-CALNAME:Comisión Fulbright
X-ORIGINAL-URL:https://fulbright.es
X-WR-CALDESC:Eventos para Comisión Fulbright
BEGIN:VTIMEZONE
TZID:Europe/Madrid
BEGIN:DAYLIGHT
TZOFFSETFROM:+0100
TZOFFSETTO:+0200
TZNAME:CEST
DTSTART:20260329T010000
END:DAYLIGHT
BEGIN:STANDARD
TZOFFSETFROM:+0200
TZOFFSETTO:+0100
TZNAME:CET
DTSTART:20261025T010000
END:STANDARD
END:VTIMEZONE
BEGIN:VEVENT
DTSTART;TZID=Europe/Madrid:20260514T120000
DTEND;TZID=Europe/Madrid:20260514T130000
DTSTAMP:20260420T144551
CREATED:20260420T073533Z
LAST-MODIFIED:20260420T073543Z
UID:9720-1778760000-1778763600@fulbright.es
SUMMARY:Sesión Informativa programa Fulbright / Fundación séneca para investigación postdoctoral
DESCRIPTION:Convocatoria dirigida a personal docente/investigador vinculado a universidades y organismos de investigación de la Región de Murcia.
URL:https://fulbright.es/evento/sesion-informativa-programa-fulbright-fundacion-seneca-para-investigacion-postdoctoral/
CATEGORIES:Becas Fulbright,Comisión Fulbright,Sesiones Informativas
END:VEVENT
END:VCALENDAR