BEGIN:VCALENDAR
VERSION:2.0
PRODID:-//Comisión Fulbright - ECPv5.15.0.1//NONSGML v1.0//EN
CALSCALE:GREGORIAN
METHOD:PUBLISH
X-WR-CALNAME:Comisión Fulbright
X-ORIGINAL-URL:https://fulbright.es
X-WR-CALDESC:Eventos para Comisión Fulbright
BEGIN:VTIMEZONE
TZID:Europe/Madrid
BEGIN:DAYLIGHT
TZOFFSETFROM:+0100
TZOFFSETTO:+0200
TZNAME:CEST
DTSTART:20260329T010000
END:DAYLIGHT
BEGIN:STANDARD
TZOFFSETFROM:+0200
TZOFFSETTO:+0100
TZNAME:CET
DTSTART:20261025T010000
END:STANDARD
END:VTIMEZONE
BEGIN:VEVENT
DTSTART;TZID=Europe/Madrid:20260520T130000
DTEND;TZID=Europe/Madrid:20260520T140000
DTSTAMP:20260420T145852
CREATED:20260420T073858Z
LAST-MODIFIED:20260420T073900Z
UID:9722-1779282000-1779285600@fulbright.es
SUMMARY:Sesión Informativa programa Fulbright / Florida Polytechnic University para investigación postdoctoral
DESCRIPTION:Convocatoria dirigida a doctores españoles que quieran realizar una estancia de investigación\, con un componente de docencia a nivel de grado\, en cualquiera de las áreas ofertadas en la institución de destino (STEM).
URL:https://fulbright.es/evento/sesion-informativa-programa-fulbright-florida-polytechnic-university-para-investigacion-postdoctoral/
CATEGORIES:Becas Fulbright,Comisión Fulbright,Sesiones Informativas
END:VEVENT
END:VCALENDAR