BEGIN:VCALENDAR
VERSION:2.0
PRODID:-//Comisión Fulbright - ECPv5.15.0.1//NONSGML v1.0//EN
CALSCALE:GREGORIAN
METHOD:PUBLISH
X-WR-CALNAME:Comisión Fulbright
X-ORIGINAL-URL:https://fulbright.es
X-WR-CALDESC:Eventos para Comisión Fulbright
BEGIN:VTIMEZONE
TZID:Europe/Madrid
BEGIN:DAYLIGHT
TZOFFSETFROM:+0100
TZOFFSETTO:+0200
TZNAME:CEST
DTSTART:20210328T010000
END:DAYLIGHT
BEGIN:STANDARD
TZOFFSETFROM:+0200
TZOFFSETTO:+0100
TZNAME:CET
DTSTART:20211031T010000
END:STANDARD
END:VTIMEZONE
BEGIN:VEVENT
DTSTART;TZID=Europe/Madrid:20210504T170000
DTEND;TZID=Europe/Madrid:20210504T180000
DTSTAMP:20260421T105347
CREATED:20210324T154536Z
LAST-MODIFIED:20240809T094941Z
UID:5295-1620147600-1620151200@fulbright.es
SUMMARY:SESIÓN INFORMATIVA- LOS 5 PASOS A SEGUIR PARA ESTUDIAR EN EE.UU.
DESCRIPTION:EducationUSA Spain ofrecerá una sesión informativa VIRTUAL sobre estudios en EE.UU.: “Los 5 pasos a seguir para estudiar en EEUU”. Podrás hablar directamente y consultar todas tus dudas con nuestra asesora académica. \n\n\n\nTEMÁTICA:Las ventajas de estudiar en EE.UU.\, cómo elegir la universidad y el programa adecuado para tiFormas de financiar los estudiosProcesos de solicitud de admisión y fechas importantesVisadoPreparativos de viaje \n\n\n\nInscripción gratuita \n\n\n\n*La presentación será en Castellano*The webinar will be in Spanish
URL:https://fulbright.es/evento/sesion-informativa-los-5-pasos-a-seguir-para-estudiar-en-ee-uu-4/
CATEGORIES:Asesoría Académica,Grado,Postgrado,Sesiones Informativas
END:VEVENT
END:VCALENDAR