BEGIN:VCALENDAR
VERSION:2.0
PRODID:-//Comisión Fulbright - ECPv5.15.0.1//NONSGML v1.0//EN
CALSCALE:GREGORIAN
METHOD:PUBLISH
X-WR-CALNAME:Comisión Fulbright
X-ORIGINAL-URL:https://fulbright.es
X-WR-CALDESC:Eventos para Comisión Fulbright
BEGIN:VTIMEZONE
TZID:Europe/Madrid
BEGIN:DAYLIGHT
TZOFFSETFROM:+0100
TZOFFSETTO:+0200
TZNAME:CEST
DTSTART:20220327T010000
END:DAYLIGHT
BEGIN:STANDARD
TZOFFSETFROM:+0200
TZOFFSETTO:+0100
TZNAME:CET
DTSTART:20221030T010000
END:STANDARD
END:VTIMEZONE
BEGIN:VEVENT
DTSTART;TZID=Europe/Madrid:20220510T170000
DTEND;TZID=Europe/Madrid:20220510T180000
DTSTAMP:20260419T161005
CREATED:20220426T082902Z
LAST-MODIFIED:20240809T094926Z
UID:6235-1652202000-1652205600@fulbright.es
SUMMARY:Sesión Informativa Becas Fulbright para estudios artísticos en EE.UU. curso 2022-2023
DESCRIPTION:Te explicaremos la convocatoria y podrás preguntar tus dudas
URL:https://fulbright.es/evento/sesion-informativa-becas-fulbright-para-estudios-artisticos-en-ee-uu-curso-2022-2023/
CATEGORIES:Becas Fulbright,Comisión Fulbright,Sesiones Informativas
END:VEVENT
END:VCALENDAR