BEGIN:VCALENDAR
VERSION:2.0
PRODID:-//Comisión Fulbright - ECPv5.15.0.1//NONSGML v1.0//EN
CALSCALE:GREGORIAN
METHOD:PUBLISH
X-WR-CALNAME:Comisión Fulbright
X-ORIGINAL-URL:https://fulbright.es
X-WR-CALDESC:Eventos para Comisión Fulbright
BEGIN:VTIMEZONE
TZID:Europe/Madrid
BEGIN:DAYLIGHT
TZOFFSETFROM:+0100
TZOFFSETTO:+0200
TZNAME:CEST
DTSTART:20220327T010000
END:DAYLIGHT
BEGIN:STANDARD
TZOFFSETFROM:+0200
TZOFFSETTO:+0100
TZNAME:CET
DTSTART:20221030T010000
END:STANDARD
END:VTIMEZONE
BEGIN:VEVENT
DTSTART;TZID=Europe/Madrid:20221114T170000
DTEND;TZID=Europe/Madrid:20221114T173000
DTSTAMP:20260425T030206
CREATED:20221024T102854Z
LAST-MODIFIED:20240809T094902Z
UID:6691-1668445200-1668447000@fulbright.es
SUMMARY:Ask the Adviser - Estudios de Postgrado en EE. UU.
DESCRIPTION:Sesión virtual en la que contestamos a tus preguntas sobre el proceso a seguir para estudiar tu postgrado en Estados Unidos.
URL:https://fulbright.es/evento/ask-the-adviser-estudios-de-postgrado-en-ee-uu-26/
CATEGORIES:Asesoría Académica,Postgrado,Sesiones Informativas
END:VEVENT
END:VCALENDAR