BEGIN:VCALENDAR
VERSION:2.0
PRODID:-//Comisión Fulbright - ECPv5.15.0.1//NONSGML v1.0//EN
CALSCALE:GREGORIAN
METHOD:PUBLISH
X-WR-CALNAME:Comisión Fulbright
X-ORIGINAL-URL:https://fulbright.es
X-WR-CALDESC:Eventos para Comisión Fulbright
BEGIN:VTIMEZONE
TZID:Europe/Madrid
BEGIN:DAYLIGHT
TZOFFSETFROM:+0100
TZOFFSETTO:+0200
TZNAME:CEST
DTSTART:20220327T010000
END:DAYLIGHT
BEGIN:STANDARD
TZOFFSETFROM:+0200
TZOFFSETTO:+0100
TZNAME:CET
DTSTART:20221030T010000
END:STANDARD
END:VTIMEZONE
BEGIN:VEVENT
DTSTART;TZID=Europe/Madrid:20220518T170000
DTEND;TZID=Europe/Madrid:20220518T180000
DTSTAMP:20260419T223925
CREATED:20220401T181311Z
LAST-MODIFIED:20240809T094925Z
UID:6210-1652893200-1652896800@fulbright.es
SUMMARY:ASK THE ADVISER- ESTUDIOS DE POSTGRADO
DESCRIPTION:Contestamos a todas tus preguntas sobre el proceso a seguir para realizar tus estudios de postgrado en Estados Unidos
URL:https://fulbright.es/evento/ask-the-adviser-estudios-de-postgrado-3/
CATEGORIES:Asesoría Académica,Postgrado
END:VEVENT
END:VCALENDAR