BEGIN:VCALENDAR
VERSION:2.0
PRODID:-//Comisión Fulbright - ECPv5.15.0.1//NONSGML v1.0//EN
CALSCALE:GREGORIAN
METHOD:PUBLISH
X-WR-CALNAME:Comisión Fulbright
X-ORIGINAL-URL:https://fulbright.es
X-WR-CALDESC:Eventos para Comisión Fulbright
BEGIN:VTIMEZONE
TZID:Europe/Madrid
BEGIN:DAYLIGHT
TZOFFSETFROM:+0100
TZOFFSETTO:+0200
TZNAME:CEST
DTSTART:20230326T010000
END:DAYLIGHT
BEGIN:STANDARD
TZOFFSETFROM:+0200
TZOFFSETTO:+0100
TZNAME:CET
DTSTART:20231029T010000
END:STANDARD
END:VTIMEZONE
BEGIN:VEVENT
DTSTART;TZID=Europe/Madrid:20230201T183000
DTEND;TZID=Europe/Madrid:20230201T193000
DTSTAMP:20260424T050751
CREATED:20221222T125259Z
LAST-MODIFIED:20240809T094900Z
UID:6810-1675276200-1675279800@fulbright.es
SUMMARY:5 STEPS TO US STUDY AT AMERICAN SPACE VALENCIA
DESCRIPTION:Interested in studying at a university in the U.S.? Join this session to learn about what steps to take! During this information session\, we’ll talk about the following topics related to U.S. Study: \n\n\n\nWhy study in the U.S.?About the higher education systemHow to choose the right university for youWays to finance your studiesElements of the application processStudent visasPre-departure preparation\n\n\n\nLocation: American Space Valencia – Universitat Politècnica de València\, UPV. Primer Piso – Edificio 4P. Av. dels Tarongers\, 6\, Valencia\, 46022 \n\n\n\nThe session will be in English | La presentación será en inglés
URL:https://fulbright.es/evento/5-steps-to-us-study-at-american-space-valencia/
CATEGORIES:Asesoría Académica,Grado,Postgrado,Sesiones Informativas
END:VEVENT
END:VCALENDAR